BEGIN:VCALENDAR
PRODID:-//eluceo/ical//2.0/EN
VERSION:2.0
CALSCALE:GREGORIAN
BEGIN:VEVENT
UID:5f9106c158353f51296c703c55575031
DTSTAMP:20260420T113701Z
SUMMARY:"Werte\, Wurzeln\, Verantwortung: Zwei Berufungen\, ein Kompass" - 
 mit Christina Egli\, Co-Präsidentin Pfadi Schweiz und angehende Pfarrerin
DESCRIPTION:Web stranica: http://www.freihof.swiss\nGovornik(ci): Werte\, W
 urzeln\, Verantwortung: Zwei Berufungen\, ein KompassMutter\,\nFamilienman
 agerin\, Pfarrerin in Ausbildung\, Pfadi\, Hobbybäckerin: Ich trage\nviel
 e Hüte\, und sie alle bereichern mein Leben. Aufgewachsen bin ich in Zür
 ich\,\nim schönen Maur am Greifensee. Der Liebe wegen verschlug es mich v
 or 17 Jahren\nnach Gossau SG. Hier fühle ich mich mit meinem Mann (natür
 lich auch ein Pfadi)\nund unseren zwei Kindern (14 und 15 Jahre alt) sehr 
 wohl. Nach 14 Jahren als\nLehrperson auf der Oberstufe\, war es für mich 
 2016 Zeit für ein neues\nAbenteuer. Ich habe mich in ein Theologiestudium
  gestürzt und stehe nun kurz\nvor der Ordination zur reformierten Pfarrer
 in. Bei all den Veränderungen und\nUmbrüchen in meinem Leben gab und gib
 t es aber auch schon lange eine Konstante:\nDie Pfadi! Mit gut 10 Jahren b
 esuchte ich meine erste Pfadiaktivität\, und\nseitdem bin ich mit Herzblu
 t dabei. Momentan bin ich die Co-Präsidentin der\nPfadibewegung Schweiz\,
  ein Ehrenamt\, das viele spannende Herausforderungen und\nneue Perspektiv
 en mit sich bringt. 
URL:https://fuerstenland.rotary2000.ch/bs/agenda/show/197003
DTSTART;TZID=Europe/Zurich:20250709T120000
DTEND;TZID=Europe/Zurich:20250709T140000
LOCATION:Restaurant Freihof\, Flawilerstrasse 46\, 9200 Gossau
CATEGORIES:Rotary
END:VEVENT
BEGIN:VTIMEZONE
TZID:Europe/Zurich
BEGIN:DAYLIGHT
DTSTART:20250709T120000
TZNAME:CEST
TZOFFSETTO:+0200
TZOFFSETFROM:+0200
END:DAYLIGHT
END:VTIMEZONE
END:VCALENDAR
