BEGIN:VCALENDAR
PRODID:-//eluceo/ical//2.0/EN
VERSION:2.0
CALSCALE:GREGORIAN
BEGIN:VEVENT
UID:1c0283ecbbb863571b8b8d5cac0ea152
DTSTAMP:20260422T062144Z
SUMMARY:Klassifikation Jan Bodenmann
DESCRIPTION:Site internet: http://www.freihof.swiss
URL:https://fuerstenland.rotary2000.ch/fr/agenda/show/139975
DTSTART;TZID=Europe/Zurich:20220316T120000
DTEND;TZID=Europe/Zurich:20220316T133000
LOCATION:Restaurant Freihof\, Flawilerstrasse 46\, 9200 Gossau
CATEGORIES:Rotary
END:VEVENT
BEGIN:VTIMEZONE
TZID:Europe/Zurich
BEGIN:STANDARD
DTSTART:20220316T120000
TZNAME:CET
TZOFFSETTO:+0100
TZOFFSETFROM:+0100
END:STANDARD
END:VTIMEZONE
END:VCALENDAR
