BEGIN:VCALENDAR
PRODID:-//eluceo/ical//2.0/EN
VERSION:2.0
CALSCALE:GREGORIAN
BEGIN:VEVENT
UID:facd09bf3c8a2f1ff0e12412a1d8f83b
DTSTAMP:20260423T231529Z
SUMMARY:"Welche Perspektiven hat die Sicherheit in Europa?"
DESCRIPTION:Site internet: http://www.freihof.swiss\nConférencier(s): Dr. 
 Roland Bopp\, Sicherheitsexperte
URL:https://fuerstenland.rotary2000.ch/fr/agenda/show/147319
DTSTART;TZID=Europe/Zurich:20220907T120000
DTEND;TZID=Europe/Zurich:20220907T140000
LOCATION:Restaurant Freihof\, Flawilerstrasse 46\, 9200 Gossau
CATEGORIES:Rotary
END:VEVENT
BEGIN:VTIMEZONE
TZID:Europe/Zurich
BEGIN:DAYLIGHT
DTSTART:20220907T120000
TZNAME:CEST
TZOFFSETTO:+0200
TZOFFSETFROM:+0200
END:DAYLIGHT
END:VTIMEZONE
END:VCALENDAR
