BEGIN:VCALENDAR
PRODID:-//eluceo/ical//2.0/EN
VERSION:2.0
CALSCALE:GREGORIAN
BEGIN:VEVENT
UID:34107279928b72baecc16c2f65817ce0
DTSTAMP:20260421T152548Z
SUMMARY:Die Oper in Wil - Vorinfo
DESCRIPTION:Sito web: http://www.freihof.swiss\nRelatore/i: Eugen Weibel
URL:https://fuerstenland.rotary2000.ch/it/agenda/show/164202
DTSTART;TZID=Europe/Zurich:20240207T120000
DTEND;TZID=Europe/Zurich:20240207T140000
LOCATION:Restaurant Freihof\, Flawilerstrasse 46\, 9200 Gossau
CATEGORIES:Rotary
END:VEVENT
BEGIN:VTIMEZONE
TZID:Europe/Zurich
BEGIN:STANDARD
DTSTART:20240207T120000
TZNAME:CET
TZOFFSETTO:+0100
TZOFFSETFROM:+0100
END:STANDARD
END:VTIMEZONE
END:VCALENDAR
